BEGIN:VCALENDAR
VERSION:2.0
PRODID:-//jEvents 2.0 for Joomla//EN
CALSCALE:GREGORIAN
METHOD:PUBLISH
BEGIN:VTIMEZONE
TZID:Europe/Berlin
BEGIN:STANDARD
DTSTART:20241027T020000
RDATE:20250330T030000
TZOFFSETFROM:+0200
TZOFFSETTO:+0100
TZNAME:Europe/Berlin CET
END:STANDARD
BEGIN:STANDARD
DTSTART:20251026T020000
RDATE:20260329T030000
TZOFFSETFROM:+0200
TZOFFSETTO:+0100
TZNAME:Europe/Berlin CET
END:STANDARD
BEGIN:STANDARD
DTSTART:20261025T020000
RDATE:20270328T030000
TZOFFSETFROM:+0200
TZOFFSETTO:+0100
TZNAME:Europe/Berlin CET
END:STANDARD
BEGIN:STANDARD
DTSTART:20271031T020000
RDATE:20280326T030000
TZOFFSETFROM:+0200
TZOFFSETTO:+0100
TZNAME:Europe/Berlin CET
END:STANDARD
BEGIN:STANDARD
DTSTART:20281029T020000
RDATE:20290325T030000
TZOFFSETFROM:+0200
TZOFFSETTO:+0100
TZNAME:Europe/Berlin CET
END:STANDARD
BEGIN:STANDARD
DTSTART:20291028T020000
RDATE:20300331T030000
TZOFFSETFROM:+0200
TZOFFSETTO:+0100
TZNAME:Europe/Berlin CET
END:STANDARD
BEGIN:STANDARD
DTSTART:20301027T020000
RDATE:20310330T030000
TZOFFSETFROM:+0200
TZOFFSETTO:+0100
TZNAME:Europe/Berlin CET
END:STANDARD
BEGIN:STANDARD
DTSTART:20311026T020000
RDATE:20320328T030000
TZOFFSETFROM:+0200
TZOFFSETTO:+0100
TZNAME:Europe/Berlin CET
END:STANDARD
BEGIN:DAYLIGHT
DTSTART:20240517T000000
RDATE:20241027T020000
TZOFFSETFROM:+0100
TZOFFSETTO:+0200
TZNAME:Europe/Berlin CEST
END:DAYLIGHT
BEGIN:DAYLIGHT
DTSTART:20250330T030000
RDATE:20251026T020000
TZOFFSETFROM:+0100
TZOFFSETTO:+0200
TZNAME:Europe/Berlin CEST
END:DAYLIGHT
BEGIN:DAYLIGHT
DTSTART:20260329T030000
RDATE:20261025T020000
TZOFFSETFROM:+0100
TZOFFSETTO:+0200
TZNAME:Europe/Berlin CEST
END:DAYLIGHT
BEGIN:DAYLIGHT
DTSTART:20270328T030000
RDATE:20271031T020000
TZOFFSETFROM:+0100
TZOFFSETTO:+0200
TZNAME:Europe/Berlin CEST
END:DAYLIGHT
BEGIN:DAYLIGHT
DTSTART:20280326T030000
RDATE:20281029T020000
TZOFFSETFROM:+0100
TZOFFSETTO:+0200
TZNAME:Europe/Berlin CEST
END:DAYLIGHT
BEGIN:DAYLIGHT
DTSTART:20290325T030000
RDATE:20291028T020000
TZOFFSETFROM:+0100
TZOFFSETTO:+0200
TZNAME:Europe/Berlin CEST
END:DAYLIGHT
BEGIN:DAYLIGHT
DTSTART:20300331T030000
RDATE:20301027T020000
TZOFFSETFROM:+0100
TZOFFSETTO:+0200
TZNAME:Europe/Berlin CEST
END:DAYLIGHT
BEGIN:DAYLIGHT
DTSTART:20310330T030000
RDATE:20311026T020000
TZOFFSETFROM:+0100
TZOFFSETTO:+0200
TZNAME:Europe/Berlin CEST
END:DAYLIGHT
END:VTIMEZONE
BEGIN:VEVENT
UID:f67a59ce334ca236862d0e9f1650a6b0
CATEGORIES:Bezirksjugend Alb-Schwarzwald
CREATED:20241130T094020
SUMMARY:3. Jugend-Grand-Prix Alb/Schwarzwald in Dornstetten-Pfalzgrafenweiler
URL;VALUE=URI:https://wsj-schach.de/menue/bezirks-kreisjugenden/alb-schwarzwald/terminkal
 ender-jas/eventdetail/246/-/3-jugend-grand-prix-alb-schwarzwald-in-dornstet
 ten-pfalzgrafenweiler?tmpl=component
DESCRIPTION:<p>3. Jugend-Grand-Prix Alb/Schwarzwald in Dornstetten-Pfalzgrafenweiler</p
 > <a href="https://www.svw.info/component/jevents/eventdetail/624/-/3-jugen
 d-grand-prix-alb-schwarzwald-in-dornstetten-pfalzgrafenweiler?Itemid=101">D
 ieser Event wurde importiert von: https://www.svw.info/component/jevents/ev
 entdetail/624/-/3-jugend-grand-prix-alb-schwarzwald-in-dornstetten-pfalzgra
 fenweiler?Itemid=101</a>DTSTAMP:20260421T083002 <a href="https://wsj-schach
 .de/menue/bezirks-kreisjugenden/alb-schwarzwald/terminkalender-jas/eventdet
 ail/246/-/3-jugend-grand-prix-alb-schwarzwald-in-dornstetten-pfalzgrafenwei
 ler?tmpl=component">Dieser Event wurde importiert von: https://wsj-schach.d
 e/menue/bezirks-kreisjugenden/alb-schwarzwald/terminkalender-jas/eventdetai
 l/246/-/3-jugend-grand-prix-alb-schwarzwald-in-dornstetten-pfalzgrafenweile
 r?tmpl=component</a>DTSTAMP:20260421T083229
DTSTART;TZID=Europe/Berlin;VALUE=DATE:20250518
DTEND;TZID=Europe/Berlin;VALUE=DATE:20250519
SEQUENCE:0
TRANSP:OPAQUE
END:VEVENT
END:VCALENDAR